BEGIN:VCALENDAR
VERSION:2.0
PRODID:-//www.connecticutcasa.org//NONSGML kigkonsult.se iCalcreator 2.30.1
 0//
CALSCALE:GREGORIAN
METHOD:PUBLISH
UID:1cd69e87-d93b-41c8-aed7-3550f356de39
X-WR-CALDESC:
X-WR-RELCALID:9722b43ab507775b7bf7542b708aaa95
X-WR-TIMEZONE:America/New_York
BEGIN:VTIMEZONE
TZID:America/New_York
BEGIN:STANDARD
TZNAME:EST
DTSTART:20211107T020000
TZOFFSETFROM:-0400
TZOFFSETTO:-0500
RDATE:20221106T020000
END:STANDARD
BEGIN:DAYLIGHT
TZNAME:EDT
DTSTART:20210314T020000
TZOFFSETFROM:-0500
TZOFFSETTO:-0400
RDATE:20220313T020000
RDATE:20230312T020000
END:DAYLIGHT
END:VTIMEZONE
BEGIN:VEVENT
UID:b2e96c33-15c6-4949-9995-2686c01ed5ae
DTSTAMP:20260426T025118Z
DESCRIPTION:
DTSTART;TZID=America/New_York:20211117T170000
DTEND;TZID=America/New_York:20211117T203000
LOCATION:
SUMMARY:Volunteer Training
END:VEVENT
END:VCALENDAR
