BEGIN:VCALENDAR
VERSION:2.0
PRODID:-//www.connecticutcasa.org//NONSGML kigkonsult.se iCalcreator 2.30.1
 0//
CALSCALE:GREGORIAN
METHOD:PUBLISH
UID:c4a4e637-47f8-48d2-8940-c360d91084e6
X-WR-CALDESC:Chef Claire Criscuolo leads our 'Cooking for CASA' Zoom lesson
 /event--on September 10\, 2021--to benefit Connecticut CASA cause!\n\nSpec
 ial thanks to our Sponsors:\n\nYale University\nClaire's Corner Copia\nCom
 munity Foundation for Greater New Haven\nRussell Hall Co.\nNewAlliance Fou
 ndation\nWilliam Fusco\n\nJoin the Italian Antipasti Party with Claire!
X-WR-RELCALID:b9ba067b10ee1830a7d228dd48a265b4
X-WR-TIMEZONE:America/New_York
BEGIN:VTIMEZONE
TZID:America/New_York
BEGIN:STANDARD
TZNAME:EST
DTSTART:20201101T020000
TZOFFSETFROM:-0400
TZOFFSETTO:-0500
RDATE:20211107T020000
RDATE:20221106T020000
END:STANDARD
BEGIN:DAYLIGHT
TZNAME:EDT
DTSTART:20210314T020000
TZOFFSETFROM:-0500
TZOFFSETTO:-0400
RDATE:20220313T020000
RDATE:20230312T020000
END:DAYLIGHT
END:VTIMEZONE
BEGIN:VEVENT
UID:c47e4385-0b23-4fa2-8434-41252eee5a90
DTSTAMP:20260426T001024Z
DESCRIPTION:Chef Claire Criscuolo leads our 'Cooking for CASA' Zoom lesson/
 event--on September 10\, 2021--to benefit Connecticut CASA cause!\n\nSpeci
 al thanks to our Sponsors:\n\nYale University\nClaire's Corner Copia\nComm
 unity Foundation for Greater New Haven\nRussell Hall Co.\nNewAlliance Foun
 dation\nWilliam Fusco\n\nJoin the Italian Antipasti Party with Claire!
DTSTART;TZID=America/New_York:20210910T170000
DTEND;TZID=America/New_York:20210910T190000
LOCATION:Registration Coming Soon
SUMMARY:Cooking for CASA by Clair's Corner Copia
END:VEVENT
END:VCALENDAR
