BEGIN:VCALENDAR
VERSION:2.0
PRODID:-//www.connecticutcasa.org//NONSGML kigkonsult.se iCalcreator 2.30.1
 0//
CALSCALE:GREGORIAN
METHOD:PUBLISH
UID:f29c3623-3048-4526-acac-b551fa055a10
X-WR-CALDESC:
X-WR-RELCALID:1d3c5862affde211ad7a6dd44ff63d22
X-WR-TIMEZONE:America/New_York
BEGIN:VTIMEZONE
TZID:America/New_York
BEGIN:STANDARD
TZNAME:EST
DTSTART:20201101T020000
TZOFFSETFROM:-0400
TZOFFSETTO:-0500
RDATE:20211107T020000
RDATE:20221106T020000
END:STANDARD
BEGIN:DAYLIGHT
TZNAME:EDT
DTSTART:20210314T020000
TZOFFSETFROM:-0500
TZOFFSETTO:-0400
RDATE:20220313T020000
END:DAYLIGHT
END:VTIMEZONE
BEGIN:VEVENT
UID:e420c105-f49e-45b7-a01c-dfab2fafddad
DTSTAMP:20260426T001428Z
DESCRIPTION:
DTSTART;TZID=America/New_York:20210901T170000
DTEND;TZID=America/New_York:20210901T203000
LOCATION:
SUMMARY:Volunteer Training
END:VEVENT
END:VCALENDAR
