BEGIN:VCALENDAR
VERSION:2.0
PRODID:-//www.connecticutcasa.org//NONSGML kigkonsult.se iCalcreator 2.30.1
 0//
CALSCALE:GREGORIAN
METHOD:PUBLISH
UID:3ef912ad-3cbd-4972-a666-2642444636fa
X-WR-CALDESC:
X-WR-RELCALID:b4a10f6676450cde8e37a1db855ca583
X-WR-TIMEZONE:America/New_York
BEGIN:VTIMEZONE
TZID:America/New_York
BEGIN:STANDARD
TZNAME:EST
DTSTART:20201101T020000
TZOFFSETFROM:-0400
TZOFFSETTO:-0500
RDATE:20211107T020000
RDATE:20221106T020000
END:STANDARD
BEGIN:DAYLIGHT
TZNAME:EDT
DTSTART:20210314T020000
TZOFFSETFROM:-0500
TZOFFSETTO:-0400
RDATE:20220313T020000
END:DAYLIGHT
END:VTIMEZONE
BEGIN:VEVENT
UID:eeb8bf7a-290e-43d8-ae13-7e7244f46bce
DTSTAMP:20260425T222053Z
DESCRIPTION:
DTSTART;TZID=America/New_York:20210825T170000
DTEND;TZID=America/New_York:20210825T203000
LOCATION:
SUMMARY:Volunteer Training
END:VEVENT
END:VCALENDAR
