BEGIN:VCALENDAR
VERSION:2.0
PRODID:-//www.connecticutcasa.org//NONSGML kigkonsult.se iCalcreator 2.30.1
 0//
CALSCALE:GREGORIAN
METHOD:PUBLISH
UID:e27cf12c-6515-4704-b9a3-547a0dc63ac9
X-WR-CALDESC:
X-WR-RELCALID:e59656a838dff649c69c15ddd1bd7a9b
X-WR-TIMEZONE:America/New_York
BEGIN:VTIMEZONE
TZID:America/New_York
BEGIN:STANDARD
TZNAME:EST
DTSTART:20201101T020000
TZOFFSETFROM:-0400
TZOFFSETTO:-0500
RDATE:20211107T020000
RDATE:20221106T020000
END:STANDARD
BEGIN:DAYLIGHT
TZNAME:EDT
DTSTART:20210314T020000
TZOFFSETFROM:-0500
TZOFFSETTO:-0400
RDATE:20220313T020000
END:DAYLIGHT
END:VTIMEZONE
BEGIN:VEVENT
UID:c298f2b0-16b2-4bc2-9152-2c4191ff9770
DTSTAMP:20260425T223006Z
DESCRIPTION:
DTSTART;TZID=America/New_York:20210804T170000
DTEND;TZID=America/New_York:20210804T203000
LOCATION:
SUMMARY:Volunteer Training
END:VEVENT
END:VCALENDAR
