BEGIN:VCALENDAR
VERSION:2.0
PRODID:-//www.connecticutcasa.org//NONSGML kigkonsult.se iCalcreator 2.30.1
 0//
CALSCALE:GREGORIAN
METHOD:PUBLISH
UID:db889643-4d9b-4632-94e7-0cdfafa902e1
X-WR-CALDESC:
X-WR-RELCALID:df25021cac39368cbb091d77825ee1c5
X-WR-TIMEZONE:America/New_York
BEGIN:VTIMEZONE
TZID:America/New_York
BEGIN:STANDARD
TZNAME:EST
DTSTART:20201101T020000
TZOFFSETFROM:-0400
TZOFFSETTO:-0500
RDATE:20211107T020000
END:STANDARD
BEGIN:DAYLIGHT
TZNAME:EDT
DTSTART:20210314T020000
TZOFFSETFROM:-0500
TZOFFSETTO:-0400
RDATE:20220313T020000
END:DAYLIGHT
END:VTIMEZONE
BEGIN:VEVENT
UID:27d9a0e6-6602-42d5-9abc-c28f7111e8a5
DTSTAMP:20260424T014308Z
DESCRIPTION:
DTSTART;TZID=America/New_York:20210428T170000
DTEND;TZID=America/New_York:20210428T203000
LOCATION:
SUMMARY:Volunteer Pre-Service Training
END:VEVENT
END:VCALENDAR
