BEGIN:VCALENDAR
VERSION:2.0
PRODID:-//www.connecticutcasa.org//NONSGML kigkonsult.se iCalcreator 2.30.1
 0//
CALSCALE:GREGORIAN
METHOD:PUBLISH
UID:236aee87-6586-4505-bdb8-4e6415570b6d
X-WR-CALDESC:Thanks to the Community Foundation for Greater New Haven and t
 he Valley Community Foundation\, CASA of Southern Connecticut has a year-r
 ound profile on the Give Greater platform--as well as a site for the Great
  Give fundraising event.
X-WR-RELCALID:6f9c469346b28d698ddffa3b31897372
X-WR-TIMEZONE:America/New_York
BEGIN:VTIMEZONE
TZID:America/New_York
BEGIN:STANDARD
TZNAME:EST
DTSTART:20201101T020000
TZOFFSETFROM:-0400
TZOFFSETTO:-0500
RDATE:20211107T020000
END:STANDARD
BEGIN:DAYLIGHT
TZNAME:EDT
DTSTART:20210314T020000
TZOFFSETFROM:-0500
TZOFFSETTO:-0400
RDATE:20220313T020000
END:DAYLIGHT
END:VTIMEZONE
BEGIN:VEVENT
UID:450c56e8-a6f7-41de-bc28-5805b60f9ef7
DTSTAMP:20260423T233818Z
DESCRIPTION:Thanks to the Community Foundation for Greater New Haven and th
 e Valley Community Foundation\, CASA of Southern Connecticut has a year-ro
 und profile on the Give Greater platform--as well as a site for the Great 
 Give fundraising event.
DTSTART;TZID=America/New_York:20210423T000000
DTEND;TZID=America/New_York:20210508T235900
LOCATION:https://www.thegreatgive.org/organizations/court-appointed-special
 -advocates-casa-of-southern-connecticut-inc
SUMMARY:The Great Give 2021
END:VEVENT
END:VCALENDAR
