BEGIN:VCALENDAR
VERSION:2.0
PRODID:-//www.connecticutcasa.org//NONSGML kigkonsult.se iCalcreator 2.30.1
 0//
CALSCALE:GREGORIAN
METHOD:PUBLISH
UID:c0f5c592-6ee0-4183-92ac-b6772583790a
X-WR-CALDESC:
X-WR-RELCALID:91da23efe85acdfeab5839cbb5b60dc1
X-WR-TIMEZONE:America/New_York
BEGIN:VTIMEZONE
TZID:America/New_York
BEGIN:STANDARD
TZNAME:EST
DTSTART:20201101T020000
TZOFFSETFROM:-0400
TZOFFSETTO:-0500
RDATE:20211107T020000
END:STANDARD
BEGIN:DAYLIGHT
TZNAME:EDT
DTSTART:20210314T020000
TZOFFSETFROM:-0500
TZOFFSETTO:-0400
RDATE:20220313T020000
END:DAYLIGHT
END:VTIMEZONE
BEGIN:VEVENT
UID:1cb9e1a6-fdf2-4208-a009-5f92a50f335e
DTSTAMP:20260424T013838Z
DESCRIPTION:
DTSTART;TZID=America/New_York:20210421T170000
DTEND;TZID=America/New_York:20210421T203000
LOCATION:
SUMMARY:Volunteer Pre-Service Training
END:VEVENT
END:VCALENDAR
