BEGIN:VCALENDAR
VERSION:2.0
PRODID:-//www.connecticutcasa.org//NONSGML kigkonsult.se iCalcreator 2.30.1
 0//
CALSCALE:GREGORIAN
METHOD:PUBLISH
UID:7cf813b9-da34-4d43-ae75-23049b75d82d
X-WR-CALDESC:
X-WR-RELCALID:ea94a9e08f260d54bb5e7343f6a1cf83
X-WR-TIMEZONE:America/New_York
BEGIN:VTIMEZONE
TZID:America/New_York
BEGIN:STANDARD
TZNAME:EST
DTSTART:20201101T020000
TZOFFSETFROM:-0400
TZOFFSETTO:-0500
RDATE:20211107T020000
END:STANDARD
BEGIN:DAYLIGHT
TZNAME:EDT
DTSTART:20210314T020000
TZOFFSETFROM:-0500
TZOFFSETTO:-0400
RDATE:20220313T020000
END:DAYLIGHT
END:VTIMEZONE
BEGIN:VEVENT
UID:03faea68-5b4f-4778-92e3-839bf58bde25
DTSTAMP:20260424T013305Z
DESCRIPTION:
DTSTART;TZID=America/New_York:20210414T170000
DTEND;TZID=America/New_York:20210414T203000
LOCATION:
SUMMARY:Volunteer Pre-Service Training
END:VEVENT
END:VCALENDAR
