BEGIN:VCALENDAR
VERSION:2.0
PRODID:-//www.connecticutcasa.org//NONSGML kigkonsult.se iCalcreator 2.30.1
 0//
CALSCALE:GREGORIAN
METHOD:PUBLISH
UID:898a535d-57c6-4808-9ceb-f05816b8a6e8
X-WR-CALDESC:
X-WR-RELCALID:ed343fc6fa724d140e37459cd9f8e4a8
X-WR-TIMEZONE:America/New_York
BEGIN:VTIMEZONE
TZID:America/New_York
BEGIN:STANDARD
TZNAME:EST
DTSTART:20201101T020000
TZOFFSETFROM:-0400
TZOFFSETTO:-0500
RDATE:20211107T020000
END:STANDARD
BEGIN:DAYLIGHT
TZNAME:EDT
DTSTART:20210314T020000
TZOFFSETFROM:-0500
TZOFFSETTO:-0400
RDATE:20220313T020000
END:DAYLIGHT
END:VTIMEZONE
BEGIN:VEVENT
UID:9640f3fa-c229-4ebc-ad50-5fbd78f895df
DTSTAMP:20260424T013701Z
DESCRIPTION:
DTSTART;TZID=America/New_York:20210407T170000
DTEND;TZID=America/New_York:20210407T203000
LOCATION:
SUMMARY:Volunteer Pre-Service Training
END:VEVENT
END:VCALENDAR
