BEGIN:VCALENDAR
VERSION:2.0
PRODID:-//www.connecticutcasa.org//NONSGML kigkonsult.se iCalcreator 2.30.1
 0//
CALSCALE:GREGORIAN
METHOD:PUBLISH
UID:b28fc590-a3c7-4def-9255-7bfbe9a38e21
X-WR-CALDESC:Miye Oni and Brandon Sherrod\, ambassadors for the program\, w
 ill be featured participants in a CASA of Southern Connecticut Zoom forum 
 to encourage men in particular to volunteer as best-interest advocates for
  children.\nDwayne Jackson\, among the region's early CASA volunteers\, wi
 ll join them and discuss his reasons for getting involved.\nFor Zoom link 
 and other information\, please contact: info@CASAsouthCT.org\n(October 15 
 is the scheduled date\, with October 22 the back-up alternative.)
X-WR-RELCALID:5bd070a35ce6a16c7c5f9b18308c5c1a
X-WR-TIMEZONE:America/New_York
BEGIN:VTIMEZONE
TZID:America/New_York
BEGIN:STANDARD
TZNAME:EST
DTSTART:20191103T020000
TZOFFSETFROM:-0400
TZOFFSETTO:-0500
RDATE:20201101T020000
RDATE:20211107T020000
END:STANDARD
BEGIN:DAYLIGHT
TZNAME:EDT
DTSTART:20200308T020000
TZOFFSETFROM:-0500
TZOFFSETTO:-0400
RDATE:20210314T020000
RDATE:20220313T020000
END:DAYLIGHT
END:VTIMEZONE
BEGIN:VEVENT
UID:9b30d9db-58be-4a74-a266-51511fcb81e4
DTSTAMP:20260424T125418Z
DESCRIPTION:Miye Oni and Brandon Sherrod\, ambassadors for the program\, wi
 ll be featured participants in a CASA of Southern Connecticut Zoom forum t
 o encourage men in particular to volunteer as best-interest advocates for 
 children.\nDwayne Jackson\, among the region's early CASA volunteers\, wil
 l join them and discuss his reasons for getting involved.\nFor Zoom link a
 nd other information\, please contact: info@CASAsouthCT.org\n(October 15 i
 s the scheduled date\, with October 22 the back-up alternative.)
DTSTART;TZID=America/New_York:20201015T170000
DTEND;TZID=America/New_York:20201015T180000
LOCATION:
SUMMARY:Zoom Forum with Ambassadors and CASA Volunteer Dwayne Jackson
END:VEVENT
END:VCALENDAR
