BEGIN:VCALENDAR
VERSION:2.0
PRODID:-//www.connecticutcasa.org//NONSGML kigkonsult.se iCalcreator 2.30.1
 0//
CALSCALE:GREGORIAN
METHOD:PUBLISH
UID:069e5c05-0f60-4ea6-8257-5d4e83e8c2a7
X-WR-CALDESC:
X-WR-RELCALID:582804e73da405e358b57d07a9760665
X-WR-TIMEZONE:America/New_York
BEGIN:VTIMEZONE
TZID:America/New_York
BEGIN:STANDARD
TZNAME:EST
DTSTART:20191103T020000
TZOFFSETFROM:-0400
TZOFFSETTO:-0500
RDATE:20201101T020000
RDATE:20211107T020000
END:STANDARD
BEGIN:DAYLIGHT
TZNAME:EDT
DTSTART:20200308T020000
TZOFFSETFROM:-0500
TZOFFSETTO:-0400
RDATE:20210314T020000
END:DAYLIGHT
END:VTIMEZONE
BEGIN:VEVENT
UID:ec65da85-b98b-4b80-a9df-146b95cea1fb
DTSTAMP:20260424T161803Z
DESCRIPTION:
DTSTART;TZID=America/New_York:20200826T170000
DTEND;TZID=America/New_York:20200826T203000
LOCATION:
SUMMARY:Training
END:VEVENT
END:VCALENDAR
