BEGIN:VCALENDAR
VERSION:2.0
PRODID:-//www.connecticutcasa.org//NONSGML kigkonsult.se iCalcreator 2.30.1
 0//
CALSCALE:GREGORIAN
METHOD:PUBLISH
UID:5428bf37-c4a9-4ec6-a50b-1b8c51a0e35b
X-WR-CALDESC:
X-WR-RELCALID:662339e0ab24f734ccf4fa152172947f
X-WR-TIMEZONE:America/New_York
BEGIN:VTIMEZONE
TZID:America/New_York
BEGIN:STANDARD
TZNAME:EST
DTSTART:20191103T020000
TZOFFSETFROM:-0400
TZOFFSETTO:-0500
RDATE:20201101T020000
RDATE:20211107T020000
END:STANDARD
BEGIN:DAYLIGHT
TZNAME:EDT
DTSTART:20200308T020000
TZOFFSETFROM:-0500
TZOFFSETTO:-0400
RDATE:20210314T020000
END:DAYLIGHT
END:VTIMEZONE
BEGIN:VEVENT
UID:dd91b379-438a-414c-9f86-bf40d283a157
DTSTAMP:20260424T161452Z
DESCRIPTION:
DTSTART;TZID=America/New_York:20200812T170000
DTEND;TZID=America/New_York:20200812T203000
LOCATION:
SUMMARY:Training
END:VEVENT
END:VCALENDAR
