BEGIN:VCALENDAR
VERSION:2.0
PRODID:-//www.connecticutcasa.org//NONSGML kigkonsult.se iCalcreator 2.30.1
 0//
CALSCALE:GREGORIAN
METHOD:PUBLISH
UID:41b59226-3b6f-4c5a-9f0c-c1a8e5c75a42
X-WR-CALDESC:
X-WR-RELCALID:8012bb2623ce147733084a8f3389bcc5
X-WR-TIMEZONE:America/New_York
BEGIN:VTIMEZONE
TZID:America/New_York
BEGIN:STANDARD
TZNAME:EST
DTSTART:20191103T020000
TZOFFSETFROM:-0400
TZOFFSETTO:-0500
RDATE:20201101T020000
RDATE:20211107T020000
END:STANDARD
BEGIN:DAYLIGHT
TZNAME:EDT
DTSTART:20200308T020000
TZOFFSETFROM:-0500
TZOFFSETTO:-0400
RDATE:20210314T020000
END:DAYLIGHT
END:VTIMEZONE
BEGIN:VEVENT
UID:da0f6f4c-6063-4f27-b0c2-908b8a668f1f
DTSTAMP:20260424T160258Z
DESCRIPTION:
DTSTART;TZID=America/New_York:20200805T170000
DTEND;TZID=America/New_York:20200805T203000
LOCATION:
SUMMARY:Training
END:VEVENT
END:VCALENDAR
