BEGIN:VCALENDAR
VERSION:2.0
PRODID:-//www.connecticutcasa.org//NONSGML kigkonsult.se iCalcreator 2.30.1
 0//
CALSCALE:GREGORIAN
METHOD:PUBLISH
UID:68eb936d-48d3-4d8c-984e-dbeadb6419ba
X-WR-CALDESC:
X-WR-RELCALID:50b2c3d3509ad0641e13311788ad84e2
X-WR-TIMEZONE:America/New_York
BEGIN:VTIMEZONE
TZID:America/New_York
BEGIN:STANDARD
TZNAME:EST
DTSTART:20191103T020000
TZOFFSETFROM:-0400
TZOFFSETTO:-0500
RDATE:20201101T020000
RDATE:20211107T020000
END:STANDARD
BEGIN:DAYLIGHT
TZNAME:EDT
DTSTART:20200308T020000
TZOFFSETFROM:-0500
TZOFFSETTO:-0400
RDATE:20210314T020000
END:DAYLIGHT
END:VTIMEZONE
BEGIN:VEVENT
UID:c990e2dc-7623-4759-a4a6-ad8458a78099
DTSTAMP:20260424T175937Z
DESCRIPTION:
DTSTART;TZID=America/New_York:20200729T170000
DTEND;TZID=America/New_York:20200729T203000
LOCATION:
SUMMARY:Training
END:VEVENT
END:VCALENDAR
