BEGIN:VCALENDAR
VERSION:2.0
PRODID:-//www.connecticutcasa.org//NONSGML kigkonsult.se iCalcreator 2.30.1
 0//
CALSCALE:GREGORIAN
METHOD:PUBLISH
UID:70463150-cfed-4873-a7dc-63ed63de450f
X-WR-CALDESC:Creating Trauma Informed Spaces
X-WR-RELCALID:0dbfda25a292c4fc880d737523fa5f94
X-WR-TIMEZONE:America/Chicago
BEGIN:VTIMEZONE
TZID:America/Chicago
BEGIN:STANDARD
TZNAME:CST
DTSTART:20191103T020000
TZOFFSETFROM:-0500
TZOFFSETTO:-0600
RDATE:20201101T020000
RDATE:20211107T020000
END:STANDARD
BEGIN:DAYLIGHT
TZNAME:CDT
DTSTART:20200308T020000
TZOFFSETFROM:-0600
TZOFFSETTO:-0500
RDATE:20210314T020000
END:DAYLIGHT
END:VTIMEZONE
BEGIN:VEVENT
UID:effec60e-4aa3-41fe-b12f-57f7f208e986
DTSTAMP:20260424T180437Z
DESCRIPTION:Creating Trauma Informed Spaces
DTSTART;TZID=America/Chicago:20200716T100000
DTEND;TZID=America/Chicago:20200716T113000
LOCATION:
SUMMARY:response to Recovery
END:VEVENT
END:VCALENDAR
