BEGIN:VCALENDAR
VERSION:2.0
PRODID:-//www.connecticutcasa.org//NONSGML kigkonsult.se iCalcreator 2.30.1
 0//
CALSCALE:GREGORIAN
METHOD:PUBLISH
UID:486c97dd-ef0b-4d3d-922b-bc94ea4f3570
X-WR-CALDESC:Implicit Bias In-Service Discussion for CAC volunteers\, co-fa
 cilitated by a Board Member and a volunteer.  Volunteers will view the mov
 ie “13th' prior to the discussion.
X-WR-RELCALID:35700178487b45775772258a288e9657
X-WR-TIMEZONE:America/New_York
BEGIN:VTIMEZONE
TZID:America/New_York
BEGIN:STANDARD
TZNAME:EST
DTSTART:20191103T020000
TZOFFSETFROM:-0400
TZOFFSETTO:-0500
RDATE:20201101T020000
RDATE:20211107T020000
END:STANDARD
BEGIN:DAYLIGHT
TZNAME:EDT
DTSTART:20200308T020000
TZOFFSETFROM:-0500
TZOFFSETTO:-0400
RDATE:20210314T020000
END:DAYLIGHT
END:VTIMEZONE
BEGIN:VEVENT
UID:f07625cf-ec74-430c-bc24-cba893ce2abc
DTSTAMP:20260424T175914Z
DESCRIPTION:Implicit Bias In-Service Discussion for CAC volunteers\, co-fac
 ilitated by a Board Member and a volunteer.  Volunteers will view the movi
 e “13th' prior to the discussion.
DTSTART;TZID=America/New_York:20200715T110000
DTEND;TZID=America/New_York:20200715T130000
LOCATION:
SUMMARY:CASA of SW Implicit Bias In-service
END:VEVENT
END:VCALENDAR
