BEGIN:VCALENDAR
VERSION:2.0
PRODID:-//www.connecticutcasa.org//NONSGML kigkonsult.se iCalcreator 2.30.1
 0//
CALSCALE:GREGORIAN
METHOD:PUBLISH
UID:ed13e674-e0a5-46ee-9690-c1f3921cf46e
X-WR-CALDESC:Understanding the Impact of Trauma on Boys
X-WR-RELCALID:2a3430e396669b74e0cf651acfd2d5e7
X-WR-TIMEZONE:America/Chicago
BEGIN:VTIMEZONE
TZID:America/Chicago
BEGIN:STANDARD
TZNAME:CST
DTSTART:20191103T020000
TZOFFSETFROM:-0500
TZOFFSETTO:-0600
RDATE:20201101T020000
RDATE:20211107T020000
END:STANDARD
BEGIN:DAYLIGHT
TZNAME:CDT
DTSTART:20200308T020000
TZOFFSETFROM:-0600
TZOFFSETTO:-0500
RDATE:20210314T020000
END:DAYLIGHT
END:VTIMEZONE
BEGIN:VEVENT
UID:6d1c1bb0-f29c-42c7-b43e-817581d4ffe2
DTSTAMP:20260424T175637Z
DESCRIPTION:Understanding the Impact of Trauma on Boys
DTSTART;TZID=America/Chicago:20200702T100000
DTEND;TZID=America/Chicago:20200702T113000
LOCATION:
SUMMARY:response to Recovery
END:VEVENT
END:VCALENDAR
