BEGIN:VCALENDAR
VERSION:2.0
PRODID:-//www.connecticutcasa.org//NONSGML kigkonsult.se iCalcreator 2.30.1
 0//
CALSCALE:GREGORIAN
METHOD:PUBLISH
UID:0cd1b746-2795-48e6-ae16-057a1069cf7b
X-WR-CALDESC:Tawanna Brown (Inaugural Youth Trustee\, National CASA) and Ch
 ristopher Scott (founder/leader of SUN Scholars) discuss the child welfare
  system and the role of CASA volunteers in supporting young people.
X-WR-RELCALID:4b40793c2347ca9ebefffeb3dde0b3d5
X-WR-TIMEZONE:America/New_York
BEGIN:VTIMEZONE
TZID:America/New_York
BEGIN:STANDARD
TZNAME:EST
DTSTART:20251102T020000
TZOFFSETFROM:-0400
TZOFFSETTO:-0500
RDATE:20261101T020000
RDATE:20271107T020000
END:STANDARD
BEGIN:DAYLIGHT
TZNAME:EDT
DTSTART:20260308T020000
TZOFFSETFROM:-0500
TZOFFSETTO:-0400
RDATE:20270314T020000
END:DAYLIGHT
END:VTIMEZONE
BEGIN:VEVENT
UID:e63f2f77-10e4-435c-9f03-5ed2f95672a9
DTSTAMP:20260419T211147Z
DESCRIPTION:Tawanna Brown (Inaugural Youth Trustee\, National CASA) and Chr
 istopher Scott (founder/leader of SUN Scholars) discuss the child welfare 
 system and the role of CASA volunteers in supporting young people.
DTSTART;TZID=America/New_York:20260521T170000
DTEND;TZID=America/New_York:20260521T193000
LOCATION:25 Flint Street\, New Haven\, CT 06513 US
SUMMARY:'Foster Care Month: Voices of Experience\,' with Tawanna Brown and 
 Christopher Scott
END:VEVENT
END:VCALENDAR
