BEGIN:VCALENDAR
VERSION:2.0
PRODID:-//www.connecticutcasa.org//NONSGML kigkonsult.se iCalcreator 2.30.1
 0//
CALSCALE:GREGORIAN
METHOD:PUBLISH
UID:341ba2ba-1e7f-476e-8f6f-93160fa2a269
X-WR-CALDESC:Please consider supporting Connecticut CASA during Giving Seas
 on!
X-WR-RELCALID:750dcb8d55ec9299a3f5cef244c98c15
X-WR-TIMEZONE:America/New_York
BEGIN:VTIMEZONE
TZID:America/New_York
BEGIN:STANDARD
TZNAME:EST
DTSTART:20231105T020000
TZOFFSETFROM:-0400
TZOFFSETTO:-0500
RDATE:20241103T020000
END:STANDARD
BEGIN:DAYLIGHT
TZNAME:EDT
DTSTART:20230312T020000
TZOFFSETFROM:-0500
TZOFFSETTO:-0400
RDATE:20240310T020000
RDATE:20250309T020000
END:DAYLIGHT
END:VTIMEZONE
BEGIN:VEVENT
UID:3212a65f-9844-47e4-9d4f-30678f7e9bba
DTSTAMP:20260424T093019Z
DESCRIPTION:Please consider supporting Connecticut CASA during Giving Seaso
 n!
DTSTART;TZID=America/New_York:20231218T000000
DTEND;TZID=America/New_York:20240119T235900
LOCATION:
SUMMARY:Giving Season
END:VEVENT
END:VCALENDAR
