BEGIN:VCALENDAR
VERSION:2.0
PRODID:-//www.connecticutcasa.org//NONSGML kigkonsult.se iCalcreator 2.30.1
 0//
CALSCALE:GREGORIAN
METHOD:PUBLISH
UID:b74c2866-1c7e-47b9-95ab-89c37ba33d6a
X-WR-CALDESC:
X-WR-RELCALID:e9511f3c6c1b914c8862d8bb6ff4c9d3
X-WR-TIMEZONE:America/New_York
BEGIN:VTIMEZONE
TZID:America/New_York
BEGIN:STANDARD
TZNAME:EST
DTSTART:20221106T020000
TZOFFSETFROM:-0400
TZOFFSETTO:-0500
RDATE:20231105T020000
RDATE:20241103T020000
END:STANDARD
BEGIN:DAYLIGHT
TZNAME:EDT
DTSTART:20230312T020000
TZOFFSETFROM:-0500
TZOFFSETTO:-0400
RDATE:20240310T020000
END:DAYLIGHT
END:VTIMEZONE
BEGIN:VEVENT
UID:42fc47fc-0eb5-4e40-adb1-ffb99832ae57
DTSTAMP:20260423T160725Z
DESCRIPTION:
DTSTART;TZID=America/New_York:20230720T170000
DTEND;TZID=America/New_York:20230720T190000
LOCATION:197 Dixwell Avenue\, New Haven\, CT 06511 US
SUMMARY:Cooking for CASA Benefit
END:VEVENT
END:VCALENDAR
